BEGIN:VCALENDAR
VERSION:2.0
PRODID:-//Tukios.com/
BEGIN:VEVENT
UID:592b719e-9170-4c36-9286-4845fa899541@www.osbornefh.com
DTSTAMP:20260420T211943Z
DTSTART:20260425T170000Z
DTEND:20260425T180000Z
SUMMARY:Burial
DESCRIPTION:
URL:https://www.osbornefh.com/obituaries/donnelle-armstrong
LOCATION: 3800 Kratzville Road  Evansville IN 47710
GEO:38.0120378;-87.5818799
END:VEVENT
END:VCALENDAR