BEGIN:VCALENDAR
VERSION:2.0
PRODID:-//Tukios.com/
BEGIN:VEVENT
UID:df04ac40-8cb0-4644-9675-1ebddf5fc8e8@www.osbornefh.com
DTSTAMP:20260420T211943Z
DTSTART:20260425T160000Z
DTEND:20260425T170000Z
SUMMARY:Funeral Service
DESCRIPTION:
URL:https://www.osbornefh.com/obituaries/donnelle-armstrong
LOCATION: 1226 East Missouri Street  Evansville IN 47711
GEO:37.9875204;-87.5420537
END:VEVENT
END:VCALENDAR