BEGIN:VCALENDAR
VERSION:2.0
PRODID:-//Tukios.com/
BEGIN:VEVENT
UID:62526a53-136a-4f29-837c-db031378f281@www.osbornefh.com
DTSTAMP:20260420T212659Z
DTSTART:20260424T220000Z
DTEND:20260425T000000Z
SUMMARY:Visitation
DESCRIPTION:
URL:https://www.osbornefh.com/obituaries/donnelle-armstrong
LOCATION: 702 Gum St  Evansville IN 47713
GEO:37.967548;-87.5630395
END:VEVENT
END:VCALENDAR